Package: ILoReg Version: 1.17.0 Command: /home/biocbuild/bbs-3.21-bioc/R/bin/R CMD build --keep-empty-dirs --no-resave-data ILoReg StartedAt: 2025-02-04 17:41:11 -0500 (Tue, 04 Feb 2025) EndedAt: 2025-02-04 17:43:42 -0500 (Tue, 04 Feb 2025) EllapsedTime: 151.3 seconds RetCode: 0 Status: OK PackageFile: ILoReg_1.17.0.tar.gz PackageFileSize: 2.667 MiB