Package: ILoReg Version: 1.17.0 Command: /home/biocbuild/bbs-3.21-bioc/R/bin/R CMD check --install=check:ILoReg.install-out.txt --library=/home/biocbuild/bbs-3.21-bioc/R/site-library --timings ILoReg_1.17.0.tar.gz StartedAt: 2025-02-04 23:17:12 -0500 (Tue, 04 Feb 2025) EndedAt: 2025-02-04 23:24:33 -0500 (Tue, 04 Feb 2025) EllapsedTime: 441.5 seconds RetCode: 0 Status: WARNINGS CheckDir: ILoReg.Rcheck Warnings: 2