Package: ILoReg Version: 1.17.0 Command: /home/biocbuild/bbs-3.21-bioc/R/bin/R CMD INSTALL ILoReg StartedAt: 2025-02-09 15:20:28 -0500 (Sun, 09 Feb 2025) EndedAt: 2025-02-09 15:20:58 -0500 (Sun, 09 Feb 2025) EllapsedTime: 30.0 seconds RetCode: 0 Status: OK