Package: ILoReg Version: 1.17.0 Command: chmod a+r ILoReg -R && E:\biocbuild\bbs-3.21-bioc\R\bin\R.exe CMD build --keep-empty-dirs --no-resave-data ILoReg StartedAt: 2025-02-09 19:20:41 -0500 (Sun, 09 Feb 2025) EndedAt: 2025-02-09 19:23:38 -0500 (Sun, 09 Feb 2025) EllapsedTime: 177.0 seconds RetCode: 0 Status: OK PackageFile: ILoReg_1.17.0.tar.gz PackageFileSize: 1.742 MiB