Package: ILoReg Version: 1.17.0 Command: E:\biocbuild\bbs-3.21-bioc\R\bin\R.exe CMD check --no-multiarch --install=check:ILoReg.install-out.txt --library=E:\biocbuild\bbs-3.21-bioc\R\library --no-vignettes --timings ILoReg_1.17.0.tar.gz StartedAt: 2025-02-05 02:32:30 -0500 (Wed, 05 Feb 2025) EndedAt: 2025-02-05 02:38:34 -0500 (Wed, 05 Feb 2025) EllapsedTime: 363.7 seconds RetCode: 0 Status: WARNINGS CheckDir: ILoReg.Rcheck Warnings: 2