Package: IMAS Version: 1.31.0 Maintainer: Seonggyun Han MaintainerEmail: hangost at ssu.ac.kr git_url: https://git.bioconductor.org/packages/IMAS git_branch: devel git_last_commit: 807fef2 git_last_commit_date: 2024-10-29 10:18:56 -0500 (Tue, 29 Oct 2024)