Package: IMAS Version: 1.31.0 Command: rm -rf IMAS.buildbin-libdir && mkdir IMAS.buildbin-libdir && /Users/biocbuild/BBS/utils/build-universal.sh IMAS_1.31.0.tar.gz /Library/Frameworks/R.framework/Resources/bin/R IMAS.buildbin-libdir StartedAt: 2025-02-12 22:23:09 -0500 (Wed, 12 Feb 2025) EndedAt: 2025-02-12 22:23:26 -0500 (Wed, 12 Feb 2025) EllapsedTime: 17.4 seconds RetCode: 0 Status: OK PackageFile: IMAS_1.31.0.tgz PackageFileSize: 755.3 KiB