Package: IMAS Version: 1.31.0 Command: /Library/Frameworks/R.framework/Resources/bin/R CMD build --keep-empty-dirs --no-resave-data IMAS StartedAt: 2025-02-09 16:40:23 -0500 (Sun, 09 Feb 2025) EndedAt: 2025-02-09 16:41:03 -0500 (Sun, 09 Feb 2025) EllapsedTime: 40.4 seconds RetCode: 0 Status: OK PackageFile: IMAS_1.31.0.tar.gz PackageFileSize: 601.5 KiB