Package: IMAS Version: 1.31.0 Command: /Library/Frameworks/R.framework/Resources/bin/R CMD build --keep-empty-dirs --no-resave-data IMAS StartedAt: 2025-02-12 17:06:04 -0500 (Wed, 12 Feb 2025) EndedAt: 2025-02-12 17:08:00 -0500 (Wed, 12 Feb 2025) EllapsedTime: 116.3 seconds RetCode: 0 Status: OK PackageFile: IMAS_1.31.0.tar.gz PackageFileSize: 601.9 KiB