Package: IMAS Version: 1.31.0 Command: rm -rf IMAS.buildbin-libdir && mkdir IMAS.buildbin-libdir && E:\biocbuild\bbs-3.21-bioc\R\bin\R.exe CMD INSTALL --build --library=IMAS.buildbin-libdir IMAS_1.31.0.tar.gz StartedAt: 2025-02-10 07:57:32 -0500 (Mon, 10 Feb 2025) EndedAt: 2025-02-10 07:58:26 -0500 (Mon, 10 Feb 2025) EllapsedTime: 53.6 seconds RetCode: 0 Status: OK PackageFile: IMAS_1.31.0.zip PackageFileSize: 778.6 KiB