Package: IMAS Version: 1.31.0 Command: chmod a+r IMAS -R && E:\biocbuild\bbs-3.21-bioc\R\bin\R.exe CMD build --keep-empty-dirs --no-resave-data IMAS StartedAt: 2025-02-09 19:20:48 -0500 (Sun, 09 Feb 2025) EndedAt: 2025-02-09 19:23:21 -0500 (Sun, 09 Feb 2025) EllapsedTime: 153.2 seconds RetCode: 0 Status: OK PackageFile: IMAS_1.31.0.tar.gz PackageFileSize: 602.2 KiB