Package: IMMAN Version: 1.27.0 Maintainer: Minoo Ashtiani MaintainerEmail: ashtiani.minoo at gmail.com git_url: https://git.bioconductor.org/packages/IMMAN git_branch: devel git_last_commit: b80f1c2 git_last_commit_date: 2024-10-29 10:26:49 -0500 (Tue, 29 Oct 2024)