Package: IMMAN Version: 1.27.0 Command: /Library/Frameworks/R.framework/Resources/bin/R CMD check --install=check:IMMAN.install-out.txt --library=/Library/Frameworks/R.framework/Resources/library --no-vignettes --timings IMMAN_1.27.0.tar.gz StartedAt: 2025-02-09 19:42:40 -0500 (Sun, 09 Feb 2025) EndedAt: 2025-02-09 19:47:24 -0500 (Sun, 09 Feb 2025) EllapsedTime: 284.3 seconds RetCode: 0 Status: OK CheckDir: IMMAN.Rcheck Warnings: 0