Package: IMMAN Version: 1.27.0 Command: /Library/Frameworks/R.framework/Resources/bin/R CMD INSTALL IMMAN StartedAt: 2025-02-04 15:07:21 -0500 (Tue, 04 Feb 2025) EndedAt: 2025-02-04 15:07:26 -0500 (Tue, 04 Feb 2025) EllapsedTime: 5.4 seconds RetCode: 0 Status: OK