Package: IMMAN Version: 1.27.0 Command: rm -rf IMMAN.buildbin-libdir && mkdir IMMAN.buildbin-libdir && /Users/biocbuild/BBS/utils/build-universal.sh IMMAN_1.27.0.tar.gz /Library/Frameworks/R.framework/Resources/bin/R IMMAN.buildbin-libdir StartedAt: 2025-02-10 00:58:34 -0500 (Mon, 10 Feb 2025) EndedAt: 2025-02-10 00:58:56 -0500 (Mon, 10 Feb 2025) EllapsedTime: 22.2 seconds RetCode: 0 Status: OK PackageFile: IMMAN_1.27.0.tgz PackageFileSize: 78.91 KiB