Package: IMMAN Version: 1.27.0 Command: /Library/Frameworks/R.framework/Resources/bin/R CMD INSTALL IMMAN StartedAt: 2025-02-09 15:13:30 -0500 (Sun, 09 Feb 2025) EndedAt: 2025-02-09 15:13:47 -0500 (Sun, 09 Feb 2025) EllapsedTime: 16.6 seconds RetCode: 0 Status: OK