Package: IMMAN Version: 1.27.0 Command: rm -rf IMMAN.buildbin-libdir && mkdir IMMAN.buildbin-libdir && E:\biocbuild\bbs-3.21-bioc\R\bin\R.exe CMD INSTALL --build --library=IMMAN.buildbin-libdir IMMAN_1.27.0.tar.gz StartedAt: 2025-02-10 07:57:38 -0500 (Mon, 10 Feb 2025) EndedAt: 2025-02-10 07:58:00 -0500 (Mon, 10 Feb 2025) EllapsedTime: 21.4 seconds RetCode: 0 Status: OK PackageFile: IMMAN_1.27.0.zip PackageFileSize: 64.66 KiB