Package: IMMAN Version: 1.27.0 Command: chmod a+r IMMAN -R && E:\biocbuild\bbs-3.21-bioc\R\bin\R.exe CMD build --keep-empty-dirs --no-resave-data IMMAN StartedAt: 2025-02-09 19:20:52 -0500 (Sun, 09 Feb 2025) EndedAt: 2025-02-09 19:23:03 -0500 (Sun, 09 Feb 2025) EllapsedTime: 130.1 seconds RetCode: 0 Status: OK PackageFile: IMMAN_1.27.0.tar.gz PackageFileSize: 26.45 KiB