Package: INPower Version: 1.43.0 Command: /home/biocbuild/R/R/bin/R CMD check --install=check:INPower.install-out.txt --library=/home/biocbuild/R/R/site-library --no-vignettes --timings INPower_1.43.0.tar.gz StartedAt: 2025-01-28 11:38:32 -0000 (Tue, 28 Jan 2025) EndedAt: 2025-01-28 11:38:48 -0000 (Tue, 28 Jan 2025) EllapsedTime: 16.0 seconds RetCode: 0 Status: OK CheckDir: INPower.Rcheck Warnings: 0