Package: INPower Version: 1.43.0 Command: /Library/Frameworks/R.framework/Resources/bin/R CMD build --keep-empty-dirs --no-resave-data INPower StartedAt: 2025-02-09 17:10:33 -0500 (Sun, 09 Feb 2025) EndedAt: 2025-02-09 17:10:53 -0500 (Sun, 09 Feb 2025) EllapsedTime: 19.4 seconds RetCode: 0 Status: OK PackageFile: INPower_1.43.0.tar.gz PackageFileSize: 146.9 KiB