Package: INPower Version: 1.43.0 Command: /Library/Frameworks/R.framework/Resources/bin/R CMD check --install=check:INPower.install-out.txt --library=/Library/Frameworks/R.framework/Resources/library --no-vignettes --timings INPower_1.43.0.tar.gz StartedAt: 2025-02-12 21:11:38 -0500 (Wed, 12 Feb 2025) EndedAt: 2025-02-12 21:12:04 -0500 (Wed, 12 Feb 2025) EllapsedTime: 26.3 seconds RetCode: 0 Status: OK CheckDir: INPower.Rcheck Warnings: 0