Package: INPower Version: 1.43.0 Command: /Library/Frameworks/R.framework/Resources/bin/R CMD INSTALL INPower StartedAt: 2025-02-09 15:05:36 -0500 (Sun, 09 Feb 2025) EndedAt: 2025-02-09 15:05:58 -0500 (Sun, 09 Feb 2025) EllapsedTime: 21.5 seconds RetCode: 0 Status: OK