Package: INPower Version: 1.43.0 Command: /home/biocbuild/bbs-3.21-bioc/R/bin/R CMD INSTALL INPower StartedAt: 2025-02-09 15:03:52 -0500 (Sun, 09 Feb 2025) EndedAt: 2025-02-09 15:04:02 -0500 (Sun, 09 Feb 2025) EllapsedTime: 10.7 seconds RetCode: 0 Status: OK