Package: INPower Version: 1.43.0 Command: rm -rf INPower.buildbin-libdir && mkdir INPower.buildbin-libdir && E:\biocbuild\bbs-3.21-bioc\R\bin\R.exe CMD INSTALL --build --library=INPower.buildbin-libdir INPower_1.43.0.tar.gz StartedAt: 2025-02-10 07:58:19 -0500 (Mon, 10 Feb 2025) EndedAt: 2025-02-10 07:58:23 -0500 (Mon, 10 Feb 2025) EllapsedTime: 4.2 seconds RetCode: 0 Status: OK PackageFile: INPower_1.43.0.zip PackageFileSize: 86.93 KiB