Package: INPower Version: 1.43.0 Command: chmod a+r INPower -R && E:\biocbuild\bbs-3.21-bioc\R\bin\R.exe CMD build --keep-empty-dirs --no-resave-data INPower StartedAt: 2025-02-09 19:23:22 -0500 (Sun, 09 Feb 2025) EndedAt: 2025-02-09 19:23:33 -0500 (Sun, 09 Feb 2025) EllapsedTime: 10.9 seconds RetCode: 0 Status: OK PackageFile: INPower_1.43.0.tar.gz PackageFileSize: 66.93 KiB