Package: INSPEcT Version: 1.37.0 Command: /Library/Frameworks/R.framework/Resources/bin/R CMD check --install=check:INSPEcT.install-out.txt --library=/Library/Frameworks/R.framework/Resources/library --no-vignettes --timings INSPEcT_1.37.0.tar.gz StartedAt: 2025-02-09 19:44:10 -0500 (Sun, 09 Feb 2025) EndedAt: 2025-02-09 19:48:28 -0500 (Sun, 09 Feb 2025) EllapsedTime: 258.0 seconds RetCode: 0 Status: OK CheckDir: INSPEcT.Rcheck Warnings: 0