Package: INSPEcT Version: 1.37.0 Command: rm -rf INSPEcT.buildbin-libdir && mkdir INSPEcT.buildbin-libdir && /Users/biocbuild/BBS/utils/build-universal.sh INSPEcT_1.37.0.tar.gz /Library/Frameworks/R.framework/Resources/bin/R INSPEcT.buildbin-libdir StartedAt: 2025-02-10 00:58:46 -0500 (Mon, 10 Feb 2025) EndedAt: 2025-02-10 01:00:16 -0500 (Mon, 10 Feb 2025) EllapsedTime: 90.1 seconds RetCode: 0 Status: OK PackageFile: INSPEcT_1.37.0.tgz PackageFileSize: 8.727 MiB