Package: INSPEcT Version: 1.37.0 Command: chmod a+r INSPEcT -R && E:\biocbuild\bbs-3.21-bioc\R\bin\R.exe CMD build --keep-empty-dirs --no-resave-data INSPEcT StartedAt: 2025-02-09 19:23:26 -0500 (Sun, 09 Feb 2025) EndedAt: 2025-02-09 19:32:00 -0500 (Sun, 09 Feb 2025) EllapsedTime: 514.5 seconds RetCode: 0 Status: OK PackageFile: INSPEcT_1.37.0.tar.gz PackageFileSize: 7.045 MiB