Package: INSPEcT Version: 1.37.0 Command: E:\biocbuild\bbs-3.21-bioc\R\bin\R.exe CMD check --no-multiarch --install=check:INSPEcT.install-out.txt --library=E:\biocbuild\bbs-3.21-bioc\R\library --no-vignettes --timings INSPEcT_1.37.0.tar.gz StartedAt: 2025-02-10 02:07:36 -0500 (Mon, 10 Feb 2025) EndedAt: 2025-02-10 02:16:33 -0500 (Mon, 10 Feb 2025) EllapsedTime: 537.0 seconds RetCode: 0 Status: OK CheckDir: INSPEcT.Rcheck Warnings: 0