Package: INSPEcT Version: 1.37.0 Command: E:\biocbuild\bbs-3.21-bioc\R\bin\R.exe CMD INSTALL INSPEcT StartedAt: 2025-02-09 16:30:43 -0500 (Sun, 09 Feb 2025) EndedAt: 2025-02-09 16:33:04 -0500 (Sun, 09 Feb 2025) EllapsedTime: 141.4 seconds RetCode: 0 Status: OK