Package: INTACT Version: 1.7.0 Command: rm -rf INTACT.buildbin-libdir && mkdir INTACT.buildbin-libdir && /Users/biocbuild/BBS/utils/build-universal.sh INTACT_1.7.0.tar.gz /Library/Frameworks/R.framework/Resources/bin/R INTACT.buildbin-libdir StartedAt: 2025-02-03 22:53:58 -0500 (Mon, 03 Feb 2025) EndedAt: 2025-02-03 22:54:01 -0500 (Mon, 03 Feb 2025) EllapsedTime: 3.1 seconds RetCode: 0 Status: OK PackageFile: INTACT_1.7.0.tgz PackageFileSize: 2.562 MiB