Package: INTACT Version: 1.7.0 Command: /Library/Frameworks/R.framework/Resources/bin/R CMD check --install=check:INTACT.install-out.txt --library=/Library/Frameworks/R.framework/Resources/library --no-vignettes --timings INTACT_1.7.0.tar.gz StartedAt: 2025-02-03 20:21:27 -0500 (Mon, 03 Feb 2025) EndedAt: 2025-02-03 20:21:45 -0500 (Mon, 03 Feb 2025) EllapsedTime: 18.2 seconds RetCode: 0 Status: OK CheckDir: INTACT.Rcheck Warnings: 0