Package: INTACT Version: 1.7.0 Command: /home/biocbuild/R/R/bin/R CMD check --install=check:INTACT.install-out.txt --library=/home/biocbuild/R/R/site-library --no-vignettes --timings INTACT_1.7.0.tar.gz StartedAt: 2025-01-28 11:38:56 -0000 (Tue, 28 Jan 2025) EndedAt: 2025-01-28 11:39:43 -0000 (Tue, 28 Jan 2025) EllapsedTime: 47.0 seconds RetCode: 0 Status: OK CheckDir: INTACT.Rcheck Warnings: 0