Package: INTACT Version: 1.7.0 Command: /home/biocbuild/R/R/bin/R CMD INSTALL INTACT StartedAt: 2025-01-29 19:37:03 -0000 (Wed, 29 Jan 2025) EndedAt: 2025-01-29 19:37:15 -0000 (Wed, 29 Jan 2025) EllapsedTime: 12.5 seconds RetCode: 0 Status: OK