Package: INTACT Version: 1.7.0 Command: /Library/Frameworks/R.framework/Resources/bin/R CMD INSTALL INTACT StartedAt: 2025-02-04 15:08:32 -0500 (Tue, 04 Feb 2025) EndedAt: 2025-02-04 15:08:52 -0500 (Tue, 04 Feb 2025) EllapsedTime: 20.1 seconds RetCode: 0 Status: OK