Package: INTACT Version: 1.7.0 Command: /home/biocbuild/bbs-3.21-bioc/R/bin/R CMD check --install=check:INTACT.install-out.txt --library=/home/biocbuild/bbs-3.21-bioc/R/site-library --timings INTACT_1.7.0.tar.gz StartedAt: 2025-02-09 23:21:33 -0500 (Sun, 09 Feb 2025) EndedAt: 2025-02-09 23:22:17 -0500 (Sun, 09 Feb 2025) EllapsedTime: 44.0 seconds RetCode: 0 Status: OK CheckDir: INTACT.Rcheck Warnings: 0