Package: INTACT Version: 1.7.0 Command: /home/biocbuild/bbs-3.21-bioc/R/bin/R CMD INSTALL INTACT StartedAt: 2025-02-09 15:08:59 -0500 (Sun, 09 Feb 2025) EndedAt: 2025-02-09 15:09:04 -0500 (Sun, 09 Feb 2025) EllapsedTime: 5.2 seconds RetCode: 0 Status: OK