Package: INTACT Version: 1.7.0 Command: rm -rf INTACT.buildbin-libdir && mkdir INTACT.buildbin-libdir && E:\biocbuild\bbs-3.21-bioc\R\bin\R.exe CMD INSTALL --build --library=INTACT.buildbin-libdir INTACT_1.7.0.tar.gz StartedAt: 2025-02-10 07:58:22 -0500 (Mon, 10 Feb 2025) EndedAt: 2025-02-10 07:58:46 -0500 (Mon, 10 Feb 2025) EllapsedTime: 24.3 seconds RetCode: 0 Status: OK PackageFile: INTACT_1.7.0.zip PackageFileSize: 2.531 MiB