Package: INTACT Version: 1.7.0 Command: E:\biocbuild\bbs-3.21-bioc\R\bin\R.exe CMD check --no-multiarch --install=check:INTACT.install-out.txt --library=E:\biocbuild\bbs-3.21-bioc\R\library --no-vignettes --timings INTACT_1.7.0.tar.gz StartedAt: 2025-02-10 02:08:03 -0500 (Mon, 10 Feb 2025) EndedAt: 2025-02-10 02:09:09 -0500 (Mon, 10 Feb 2025) EllapsedTime: 66.4 seconds RetCode: 0 Status: OK CheckDir: INTACT.Rcheck Warnings: 0