Package: IONiseR Version: 2.31.0 Command: rm -rf IONiseR.buildbin-libdir && mkdir IONiseR.buildbin-libdir && /Users/biocbuild/BBS/utils/build-universal.sh IONiseR_2.31.0.tar.gz /Library/Frameworks/R.framework/Resources/bin/R IONiseR.buildbin-libdir StartedAt: 2025-02-04 22:20:11 -0500 (Tue, 04 Feb 2025) EndedAt: 2025-02-04 22:20:27 -0500 (Tue, 04 Feb 2025) EllapsedTime: 16.3 seconds RetCode: 0 Status: OK PackageFile: IONiseR_2.31.0.tgz PackageFileSize: 4.309 MiB