Package: IONiseR Version: 2.31.0 Command: /Library/Frameworks/R.framework/Resources/bin/R CMD build --keep-empty-dirs --no-resave-data IONiseR StartedAt: 2025-02-04 17:07:21 -0500 (Tue, 04 Feb 2025) EndedAt: 2025-02-04 17:09:21 -0500 (Tue, 04 Feb 2025) EllapsedTime: 119.8 seconds RetCode: 0 Status: OK PackageFile: IONiseR_2.31.0.tar.gz PackageFileSize: 4.182 MiB