Package: IONiseR Version: 2.31.0 Command: /Library/Frameworks/R.framework/Resources/bin/R CMD check --install=check:IONiseR.install-out.txt --library=/Library/Frameworks/R.framework/Resources/library --no-vignettes --timings IONiseR_2.31.0.tar.gz StartedAt: 2025-02-09 21:25:39 -0500 (Sun, 09 Feb 2025) EndedAt: 2025-02-09 21:30:26 -0500 (Sun, 09 Feb 2025) EllapsedTime: 287.5 seconds RetCode: 0 Status: OK CheckDir: IONiseR.Rcheck Warnings: 0