Package: IONiseR Version: 2.31.0 Command: /Library/Frameworks/R.framework/Resources/bin/R CMD INSTALL IONiseR StartedAt: 2025-02-04 15:26:59 -0500 (Tue, 04 Feb 2025) EndedAt: 2025-02-04 15:27:43 -0500 (Tue, 04 Feb 2025) EllapsedTime: 44.0 seconds RetCode: 0 Status: OK