Package: IPO Version: 1.33.0 Command: /Library/Frameworks/R.framework/Resources/bin/R CMD build --keep-empty-dirs --no-resave-data IPO StartedAt: 2025-02-09 16:43:00 -0500 (Sun, 09 Feb 2025) EndedAt: 2025-02-09 16:43:28 -0500 (Sun, 09 Feb 2025) EllapsedTime: 27.3 seconds RetCode: 1 Status: ERROR PackageFile: None PackageFileSize: NA