Package: IPO Version: 1.33.0 Command: /Library/Frameworks/R.framework/Resources/bin/R CMD INSTALL IPO StartedAt: 2025-02-09 15:19:54 -0500 (Sun, 09 Feb 2025) EndedAt: 2025-02-09 15:20:11 -0500 (Sun, 09 Feb 2025) EllapsedTime: 16.6 seconds RetCode: 0 Status: OK