Package: IPO Version: 1.33.0 Command: /home/biocbuild/bbs-3.21-bioc/R/bin/R CMD build --keep-empty-dirs --no-resave-data IPO StartedAt: 2025-02-12 17:43:34 -0500 (Wed, 12 Feb 2025) EndedAt: 2025-02-12 17:59:45 -0500 (Wed, 12 Feb 2025) EllapsedTime: 971.2 seconds RetCode: 0 Status: OK PackageFile: IPO_1.33.0.tar.gz PackageFileSize: 768 KiB