Package: IPO Version: 1.33.0 Command: rm -rf IPO.buildbin-libdir && mkdir IPO.buildbin-libdir && E:\biocbuild\bbs-3.21-bioc\R\bin\R.exe CMD INSTALL --build --library=IPO.buildbin-libdir IPO_1.33.0.tar.gz StartedAt: 2025-02-10 07:59:06 -0500 (Mon, 10 Feb 2025) EndedAt: 2025-02-10 08:00:18 -0500 (Mon, 10 Feb 2025) EllapsedTime: 71.7 seconds RetCode: 0 Status: OK PackageFile: IPO_1.33.0.zip PackageFileSize: 496.3 KiB