Package: IPO Version: 1.33.0 Command: chmod a+r IPO -R && E:\biocbuild\bbs-3.21-bioc\R\bin\R.exe CMD build --keep-empty-dirs --no-resave-data IPO StartedAt: 2025-02-09 19:25:36 -0500 (Sun, 09 Feb 2025) EndedAt: 2025-02-09 19:59:57 -0500 (Sun, 09 Feb 2025) EllapsedTime: 2060.6 seconds RetCode: 0 Status: OK PackageFile: IPO_1.33.0.tar.gz PackageFileSize: 536.3 KiB