Package: IRanges Version: 2.41.3 Maintainer: Hervé Pagès MaintainerEmail: hpages.on.github at gmail.com git_url: https://git.bioconductor.org/packages/IRanges git_branch: devel git_last_commit: d7cd5d4 git_last_commit_date: 2025-02-11 18:21:07 -0500 (Tue, 11 Feb 2025)