Package: IRanges Version: 2.41.2 Command: rm -rf IRanges.buildbin-libdir && mkdir IRanges.buildbin-libdir && /Users/biocbuild/BBS/utils/build-universal.sh IRanges_2.41.2.tar.gz /Library/Frameworks/R.framework/Resources/bin/R IRanges.buildbin-libdir StartedAt: 2025-02-09 22:18:25 -0500 (Sun, 09 Feb 2025) EndedAt: 2025-02-09 22:18:51 -0500 (Sun, 09 Feb 2025) EllapsedTime: 25.5 seconds RetCode: 0 Status: OK PackageFile: IRanges_2.41.2.tgz PackageFileSize: 2.236 MiB